BEGIN:VCALENDAR
VERSION:2.0
PRODID:-//Town of Wheatland - ECPv6.15.17.1//NONSGML v1.0//EN
CALSCALE:GREGORIAN
METHOD:PUBLISH
X-WR-CALNAME:Town of Wheatland
X-ORIGINAL-URL:https://townofwheatlandwy.org
X-WR-CALDESC:Events for Town of Wheatland
REFRESH-INTERVAL;VALUE=DURATION:PT1H
X-Robots-Tag:noindex
X-PUBLISHED-TTL:PT1H
BEGIN:VTIMEZONE
TZID:America/Phoenix
BEGIN:STANDARD
TZOFFSETFROM:-0700
TZOFFSETTO:-0700
TZNAME:MST
DTSTART:20210101T000000
END:STANDARD
END:VTIMEZONE
BEGIN:VEVENT
DTSTART;TZID=America/Phoenix:20220106T173000
DTEND;TZID=America/Phoenix:20220106T173000
DTSTAMP:20260421T215059
CREATED:20220919T204502Z
LAST-MODIFIED:20220919T211237Z
UID:10000111-1641490200-1641490200@townofwheatlandwy.org
SUMMARY:Planning & Zoning - Canceled
DESCRIPTION:
URL:https://townofwheatlandwy.org/event/planning-zoning/
LOCATION:Town Hall\, 600 9th St\, Wheatland\, WI\, 82201\, United States
CATEGORIES:Planning & Zoning
END:VEVENT
BEGIN:VEVENT
DTSTART;TZID=America/Phoenix:20220110T183000
DTEND;TZID=America/Phoenix:20220110T183000
DTSTAMP:20260421T215059
CREATED:20220919T204127Z
LAST-MODIFIED:20220919T211357Z
UID:10000001-1641839400-1641839400@townofwheatlandwy.org
SUMMARY:Town Council Meeting
DESCRIPTION:
URL:https://townofwheatlandwy.org/event/town-council-meeting/2022-01-10/
LOCATION:Town Hall\, 600 9th St\, Wheatland\, WI\, 82201\, United States
CATEGORIES:Town Council
END:VEVENT
BEGIN:VEVENT
DTSTART;VALUE=DATE:20220117
DTEND;VALUE=DATE:20220118
DTSTAMP:20260421T215059
CREATED:20220919T211444Z
LAST-MODIFIED:20220919T211444Z
UID:10000218-1642377600-1642463999@townofwheatlandwy.org
SUMMARY:Town Hall Closed
DESCRIPTION:
URL:https://townofwheatlandwy.org/event/town-hall-closed-2/
CATEGORIES:Holiday
END:VEVENT
BEGIN:VEVENT
DTSTART;TZID=America/Phoenix:20220118T190000
DTEND;TZID=America/Phoenix:20220118T190000
DTSTAMP:20260421T215059
CREATED:20220919T211609Z
LAST-MODIFIED:20220919T211609Z
UID:10000219-1642532400-1642532400@townofwheatlandwy.org
SUMMARY:Board of Adjustment - Canceled
DESCRIPTION:
URL:https://townofwheatlandwy.org/event/board-of-adjustment-canceled/
CATEGORIES:Board of Adjustment
END:VEVENT
END:VCALENDAR