BEGIN:VCALENDAR
VERSION:2.0
PRODID:-//Town of Wheatland - ECPv6.15.17.1//NONSGML v1.0//EN
CALSCALE:GREGORIAN
METHOD:PUBLISH
X-WR-CALNAME:Town of Wheatland
X-ORIGINAL-URL:https://townofwheatlandwy.org
X-WR-CALDESC:Events for Town of Wheatland
REFRESH-INTERVAL;VALUE=DURATION:PT1H
X-Robots-Tag:noindex
X-PUBLISHED-TTL:PT1H
BEGIN:VTIMEZONE
TZID:America/Phoenix
BEGIN:STANDARD
TZOFFSETFROM:-0700
TZOFFSETTO:-0700
TZNAME:MST
DTSTART:20210101T000000
END:STANDARD
END:VTIMEZONE
BEGIN:VEVENT
DTSTART;TZID=America/Phoenix:20220405T130000
DTEND;TZID=America/Phoenix:20220405T140000
DTSTAMP:20260421T162815
CREATED:20220919T212709Z
LAST-MODIFIED:20220919T212709Z
UID:10000226-1649163600-1649167200@townofwheatlandwy.org
SUMMARY:Wheatland Historic Preservation Commission
DESCRIPTION:
URL:https://townofwheatlandwy.org/event/wheatland-historic-preservation-commission/
CATEGORIES:Historic Preservation Commission
END:VEVENT
BEGIN:VEVENT
DTSTART;TZID=America/Phoenix:20220406T083000
DTEND;TZID=America/Phoenix:20220406T093000
DTSTAMP:20260421T162815
CREATED:20220919T212911Z
LAST-MODIFIED:20220919T212911Z
UID:10000227-1649233800-1649237400@townofwheatlandwy.org
SUMMARY:Wheatland Pathway Plan Public Input Session
DESCRIPTION:www.townofwheatlandpathwayplan.com
URL:https://townofwheatlandwy.org/event/wheatland-pathway-plan-public-input-session-2/
CATEGORIES:Pathway Committee
END:VEVENT
BEGIN:VEVENT
DTSTART;TZID=America/Phoenix:20220407T173000
DTEND;TZID=America/Phoenix:20220407T173000
DTSTAMP:20260421T162815
CREATED:20220919T204502Z
LAST-MODIFIED:20220919T211227Z
UID:10000113-1649352600-1649352600@townofwheatlandwy.org
SUMMARY:Planning & Zoning
DESCRIPTION:
URL:https://townofwheatlandwy.org/event/planning-zoning-2022-02-03/2022-04-07/
LOCATION:Town Hall\, 600 9th St\, Wheatland\, WI\, 82201\, United States
CATEGORIES:Planning & Zoning
END:VEVENT
BEGIN:VEVENT
DTSTART;TZID=America/Phoenix:20220411T181500
DTEND;TZID=America/Phoenix:20220411T190000
DTSTAMP:20260421T162815
CREATED:20220919T213049Z
LAST-MODIFIED:20220919T213049Z
UID:10000228-1649700900-1649703600@townofwheatlandwy.org
SUMMARY:Town Council Workshop
DESCRIPTION:
URL:https://townofwheatlandwy.org/event/town-council-workshop/
LOCATION:Town Hall\, 600 9th St\, Wheatland\, WI\, 82201\, United States
CATEGORIES:Town Council
END:VEVENT
BEGIN:VEVENT
DTSTART;TZID=America/Phoenix:20220411T190000
DTEND;TZID=America/Phoenix:20220411T190000
DTSTAMP:20260421T162815
CREATED:20220919T204127Z
LAST-MODIFIED:20220919T213152Z
UID:10000110-1649703600-1649703600@townofwheatlandwy.org
SUMMARY:Town Council Meeting
DESCRIPTION:
URL:https://townofwheatlandwy.org/event/town-council-meeting-2022-04-11/
LOCATION:Town Hall\, 600 9th St\, Wheatland\, WI\, 82201\, United States
CATEGORIES:Town Council
END:VEVENT
BEGIN:VEVENT
DTSTART;TZID=America/Phoenix:20220412T140000
DTEND;TZID=America/Phoenix:20220412T140000
DTSTAMP:20260421T162815
CREATED:20220919T213240Z
LAST-MODIFIED:20220919T213240Z
UID:10000229-1649772000-1649772000@townofwheatlandwy.org
SUMMARY:Wheatland Pathway Committee
DESCRIPTION:
URL:https://townofwheatlandwy.org/event/wheatland-pathway-committee/
CATEGORIES:Pathway Committee
END:VEVENT
BEGIN:VEVENT
DTSTART;VALUE=DATE:20220415
DTEND;VALUE=DATE:20220416
DTSTAMP:20260421T162815
CREATED:20220919T213302Z
LAST-MODIFIED:20220919T213302Z
UID:10000230-1649980800-1650067199@townofwheatlandwy.org
SUMMARY:Town Hall Closed
DESCRIPTION:
URL:https://townofwheatlandwy.org/event/town-hall-closed-4/
CATEGORIES:Holiday
END:VEVENT
BEGIN:VEVENT
DTSTART;TZID=America/Phoenix:20220419T190000
DTEND;TZID=America/Phoenix:20220419T190000
DTSTAMP:20260421T162815
CREATED:20220919T213351Z
LAST-MODIFIED:20220919T213351Z
UID:10000231-1650394800-1650394800@townofwheatlandwy.org
SUMMARY:Board of Adjustment - Canceled
DESCRIPTION:
URL:https://townofwheatlandwy.org/event/board-of-adjustment-canceled-3/
LOCATION:Town Hall\, 600 9th St\, Wheatland\, WI\, 82201\, United States
CATEGORIES:Board of Adjustment
END:VEVENT
END:VCALENDAR