BEGIN:VCALENDAR
VERSION:2.0
PRODID:-//Town of Wheatland - ECPv6.15.17.1//NONSGML v1.0//EN
CALSCALE:GREGORIAN
METHOD:PUBLISH
X-WR-CALNAME:Town of Wheatland
X-ORIGINAL-URL:https://townofwheatlandwy.org
X-WR-CALDESC:Events for Town of Wheatland
REFRESH-INTERVAL;VALUE=DURATION:PT1H
X-Robots-Tag:noindex
X-PUBLISHED-TTL:PT1H
BEGIN:VTIMEZONE
TZID:America/Phoenix
BEGIN:STANDARD
TZOFFSETFROM:-0700
TZOFFSETTO:-0700
TZNAME:MST
DTSTART:20210101T000000
END:STANDARD
END:VTIMEZONE
BEGIN:VEVENT
DTSTART;TZID=America/Phoenix:20220602T173000
DTEND;TZID=America/Phoenix:20220602T173000
DTSTAMP:20260421T130349
CREATED:20220919T204502Z
LAST-MODIFIED:20220919T213939Z
UID:10000215-1654191000-1654191000@townofwheatlandwy.org
SUMMARY:Planning & Zoning - Rescheduled
DESCRIPTION:
URL:https://townofwheatlandwy.org/event/planning-zoning-2022-06-02/
LOCATION:Town Hall\, 600 9th St\, Wheatland\, WI\, 82201\, United States
CATEGORIES:Planning & Zoning
END:VEVENT
BEGIN:VEVENT
DTSTART;TZID=America/Phoenix:20220609T173000
DTEND;TZID=America/Phoenix:20220609T173000
DTSTAMP:20260421T130349
CREATED:20220919T214107Z
LAST-MODIFIED:20220919T214120Z
UID:10000235-1654795800-1654795800@townofwheatlandwy.org
SUMMARY:Planning and Zoning Special Meeting
DESCRIPTION:Google Meet joining info\nVideo call link: https://meet.google.com/pep-woiz-btf\nOr dial: ‪(US) +1 402-795-1756‬ PIN: ‪498 531 585‬#\nMore phone numbers: https://tel.meet/pep-woiz-btf?pin=5263731311144
URL:https://townofwheatlandwy.org/event/planning-and-zoning-special-meeting/
CATEGORIES:Planning & Zoning
END:VEVENT
BEGIN:VEVENT
DTSTART;TZID=America/Phoenix:20220613T183000
DTEND;TZID=America/Phoenix:20220613T183000
DTSTAMP:20260421T130349
CREATED:20220919T204127Z
LAST-MODIFIED:20220919T211357Z
UID:10000005-1655145000-1655145000@townofwheatlandwy.org
SUMMARY:Town Council Meeting
DESCRIPTION:
URL:https://townofwheatlandwy.org/event/town-council-meeting/2022-06-13/
LOCATION:Town Hall\, 600 9th St\, Wheatland\, WI\, 82201\, United States
CATEGORIES:Town Council
END:VEVENT
BEGIN:VEVENT
DTSTART;TZID=America/Phoenix:20220621T190000
DTEND;TZID=America/Phoenix:20220621T190000
DTSTAMP:20260421T130349
CREATED:20220919T214212Z
LAST-MODIFIED:20220919T214212Z
UID:10000236-1655838000-1655838000@townofwheatlandwy.org
SUMMARY:Board of Adjustment
DESCRIPTION:
URL:https://townofwheatlandwy.org/event/board-of-adjustment-3/
LOCATION:Town Hall\, 600 9th St\, Wheatland\, WI\, 82201\, United States
CATEGORIES:Board of Adjustment
END:VEVENT
END:VCALENDAR