BEGIN:VCALENDAR
VERSION:2.0
PRODID:-//Town of Wheatland - ECPv6.15.17.1//NONSGML v1.0//EN
CALSCALE:GREGORIAN
METHOD:PUBLISH
X-WR-CALNAME:Town of Wheatland
X-ORIGINAL-URL:https://townofwheatlandwy.org
X-WR-CALDESC:Events for Town of Wheatland
REFRESH-INTERVAL;VALUE=DURATION:PT1H
X-Robots-Tag:noindex
X-PUBLISHED-TTL:PT1H
BEGIN:VTIMEZONE
TZID:America/Phoenix
BEGIN:STANDARD
TZOFFSETFROM:-0700
TZOFFSETTO:-0700
TZNAME:MST
DTSTART:20210101T000000
END:STANDARD
END:VTIMEZONE
BEGIN:VEVENT
DTSTART;VALUE=DATE:20220704
DTEND;VALUE=DATE:20220705
DTSTAMP:20260421T113510
CREATED:20220919T214236Z
LAST-MODIFIED:20220919T214236Z
UID:10000237-1656892800-1656979199@townofwheatlandwy.org
SUMMARY:Town Hall Closed
DESCRIPTION:
URL:https://townofwheatlandwy.org/event/town-hall-closed-6/
CATEGORIES:Holiday
END:VEVENT
BEGIN:VEVENT
DTSTART;TZID=America/Phoenix:20220707T173000
DTEND;TZID=America/Phoenix:20220707T173000
DTSTAMP:20260421T113510
CREATED:20220919T204502Z
LAST-MODIFIED:20220919T211227Z
UID:10000115-1657215000-1657215000@townofwheatlandwy.org
SUMMARY:Planning & Zoning
DESCRIPTION:
URL:https://townofwheatlandwy.org/event/planning-zoning-2022-02-03/2022-07-07/
LOCATION:Town Hall\, 600 9th St\, Wheatland\, WI\, 82201\, United States
CATEGORIES:Planning & Zoning
END:VEVENT
BEGIN:VEVENT
DTSTART;TZID=America/Phoenix:20220711T183000
DTEND;TZID=America/Phoenix:20220711T183000
DTSTAMP:20260421T113510
CREATED:20220919T204127Z
LAST-MODIFIED:20220919T211357Z
UID:10000006-1657564200-1657564200@townofwheatlandwy.org
SUMMARY:Town Council Meeting
DESCRIPTION:
URL:https://townofwheatlandwy.org/event/town-council-meeting/2022-07-11/
LOCATION:Town Hall\, 600 9th St\, Wheatland\, WI\, 82201\, United States
CATEGORIES:Town Council
END:VEVENT
BEGIN:VEVENT
DTSTART;TZID=America/Phoenix:20220711T193000
DTEND;TZID=America/Phoenix:20220711T193000
DTSTAMP:20260421T113510
CREATED:20220919T204730Z
LAST-MODIFIED:20220919T204730Z
UID:10000216-1657567800-1657567800@townofwheatlandwy.org
SUMMARY:Public Hearing
DESCRIPTION:
URL:https://townofwheatlandwy.org/event/public-hearing/
LOCATION:Town Hall\, 600 9th St\, Wheatland\, WI\, 82201\, United States
CATEGORIES:Town Council
END:VEVENT
BEGIN:VEVENT
DTSTART;TZID=America/Phoenix:20220719T190000
DTEND;TZID=America/Phoenix:20220719T190000
DTSTAMP:20260421T113510
CREATED:20220919T214430Z
LAST-MODIFIED:20220919T214847Z
UID:10000238-1658257200-1658257200@townofwheatlandwy.org
SUMMARY:Board of Adjustment
DESCRIPTION:
URL:https://townofwheatlandwy.org/event/board-of-adjustment-4/2022-07-19/
LOCATION:Town Hall\, 600 9th St\, Wheatland\, WI\, 82201\, United States
CATEGORIES:Board of Adjustment
END:VEVENT
END:VCALENDAR