BEGIN:VCALENDAR
VERSION:2.0
PRODID:-//Town of Wheatland - ECPv6.15.17.1//NONSGML v1.0//EN
CALSCALE:GREGORIAN
METHOD:PUBLISH
X-WR-CALNAME:Town of Wheatland
X-ORIGINAL-URL:https://townofwheatlandwy.org
X-WR-CALDESC:Events for Town of Wheatland
REFRESH-INTERVAL;VALUE=DURATION:PT1H
X-Robots-Tag:noindex
X-PUBLISHED-TTL:PT1H
BEGIN:VTIMEZONE
TZID:America/Phoenix
BEGIN:STANDARD
TZOFFSETFROM:-0700
TZOFFSETTO:-0700
TZNAME:MST
DTSTART:20210101T000000
END:STANDARD
END:VTIMEZONE
BEGIN:VEVENT
DTSTART;TZID=America/Phoenix:20221201T173000
DTEND;TZID=America/Phoenix:20221201T173000
DTSTAMP:20260421T031431
CREATED:20220919T204502Z
LAST-MODIFIED:20220919T211227Z
UID:10000120-1669915800-1669915800@townofwheatlandwy.org
SUMMARY:Planning & Zoning
DESCRIPTION:
URL:https://townofwheatlandwy.org/event/planning-zoning-2022-02-03/2022-12-01/
LOCATION:Town Hall\, 600 9th St\, Wheatland\, WI\, 82201\, United States
CATEGORIES:Planning & Zoning
END:VEVENT
BEGIN:VEVENT
DTSTART;TZID=America/Phoenix:20221212T173000
DTEND;TZID=America/Phoenix:20221212T185500
DTSTAMP:20260421T031431
CREATED:20221209T174535Z
LAST-MODIFIED:20221209T174725Z
UID:10000340-1670866200-1670871300@townofwheatlandwy.org
SUMMARY:Workshop
DESCRIPTION:Workshop Meeting will begin at 5:30 PM in Town Council Chambers.
URL:https://townofwheatlandwy.org/event/workshop/
CATEGORIES:Town Council
END:VEVENT
BEGIN:VEVENT
DTSTART;TZID=America/Phoenix:20221212T183000
DTEND;TZID=America/Phoenix:20221212T183000
DTSTAMP:20260421T031431
CREATED:20220919T204127Z
LAST-MODIFIED:20220919T211357Z
UID:10000011-1670869800-1670869800@townofwheatlandwy.org
SUMMARY:Town Council Meeting
DESCRIPTION:
URL:https://townofwheatlandwy.org/event/town-council-meeting/2022-12-12/
LOCATION:Town Hall\, 600 9th St\, Wheatland\, WI\, 82201\, United States
CATEGORIES:Town Council
END:VEVENT
BEGIN:VEVENT
DTSTART;TZID=America/Phoenix:20221220T190000
DTEND;TZID=America/Phoenix:20221220T190000
DTSTAMP:20260421T031431
CREATED:20220919T214430Z
LAST-MODIFIED:20220919T214847Z
UID:10000243-1671562800-1671562800@townofwheatlandwy.org
SUMMARY:Board of Adjustment
DESCRIPTION:
URL:https://townofwheatlandwy.org/event/board-of-adjustment-4/2022-12-20/
LOCATION:Town Hall\, 600 9th St\, Wheatland\, WI\, 82201\, United States
CATEGORIES:Board of Adjustment
END:VEVENT
BEGIN:VEVENT
DTSTART;VALUE=DATE:20221226
DTEND;VALUE=DATE:20221227
DTSTAMP:20260421T031431
CREATED:20220919T215148Z
LAST-MODIFIED:20220919T215148Z
UID:10000339-1672012800-1672099199@townofwheatlandwy.org
SUMMARY:Town Hall Closed
DESCRIPTION:
URL:https://townofwheatlandwy.org/event/town-hall-closed-10/
CATEGORIES:Holiday
END:VEVENT
BEGIN:VEVENT
DTSTART;VALUE=DATE:20221229
DTEND;VALUE=DATE:20221230
DTSTAMP:20260421T031431
CREATED:20221220T172617Z
LAST-MODIFIED:20221220T172617Z
UID:10000341-1672272000-1672358399@townofwheatlandwy.org
SUMMARY:Planning and Zoning Submittal Deadline
DESCRIPTION:Application submittal deadline for 2/2/2023 meeting.
URL:https://townofwheatlandwy.org/event/planning-and-zoning-submittal-deadline/
CATEGORIES:Planning & Zoning
END:VEVENT
END:VCALENDAR