BEGIN:VCALENDAR
VERSION:2.0
PRODID:-//Town of Wheatland - ECPv6.15.17.1//NONSGML v1.0//EN
CALSCALE:GREGORIAN
METHOD:PUBLISH
X-WR-CALNAME:Town of Wheatland
X-ORIGINAL-URL:https://townofwheatlandwy.org
X-WR-CALDESC:Events for Town of Wheatland
REFRESH-INTERVAL;VALUE=DURATION:PT1H
X-Robots-Tag:noindex
X-PUBLISHED-TTL:PT1H
BEGIN:VTIMEZONE
TZID:America/Phoenix
BEGIN:STANDARD
TZOFFSETFROM:-0700
TZOFFSETTO:-0700
TZNAME:MST
DTSTART:20220101T000000
END:STANDARD
END:VTIMEZONE
BEGIN:VEVENT
DTSTART;VALUE=DATE:20230102
DTEND;VALUE=DATE:20230103
DTSTAMP:20260421T015120
CREATED:20221230T153045Z
LAST-MODIFIED:20221230T153045Z
UID:10000343-1672617600-1672703999@townofwheatlandwy.org
SUMMARY:Town Hall Closed
DESCRIPTION:
URL:https://townofwheatlandwy.org/event/town-hall-closed-11/
CATEGORIES:Holiday
END:VEVENT
BEGIN:VEVENT
DTSTART;TZID=America/Phoenix:20230105T173000
DTEND;TZID=America/Phoenix:20230105T173000
DTSTAMP:20260421T015120
CREATED:20220919T204502Z
LAST-MODIFIED:20220919T211227Z
UID:10000121-1672939800-1672939800@townofwheatlandwy.org
SUMMARY:Planning & Zoning
DESCRIPTION:
URL:https://townofwheatlandwy.org/event/planning-zoning-2022-02-03/2023-01-05/
LOCATION:Town Hall\, 600 9th St\, Wheatland\, WI\, 82201\, United States
CATEGORIES:Planning & Zoning
END:VEVENT
BEGIN:VEVENT
DTSTART;TZID=America/Phoenix:20230109T183000
DTEND;TZID=America/Phoenix:20230109T183000
DTSTAMP:20260421T015120
CREATED:20220919T204127Z
LAST-MODIFIED:20220919T211357Z
UID:10000012-1673289000-1673289000@townofwheatlandwy.org
SUMMARY:Town Council Meeting
DESCRIPTION:
URL:https://townofwheatlandwy.org/event/town-council-meeting/2023-01-09/
LOCATION:Town Hall\, 600 9th St\, Wheatland\, WI\, 82201\, United States
CATEGORIES:Town Council
END:VEVENT
BEGIN:VEVENT
DTSTART;VALUE=DATE:20230116
DTEND;VALUE=DATE:20230117
DTSTAMP:20260421T015120
CREATED:20230111T230803Z
LAST-MODIFIED:20230111T230803Z
UID:10000344-1673827200-1673913599@townofwheatlandwy.org
SUMMARY:Town Hall Closed
DESCRIPTION:Town Hall and the Transfer Station will be closed for Martin Luther King\, Jr. Day
URL:https://townofwheatlandwy.org/event/town-hall-closed-12/
CATEGORIES:Holiday
END:VEVENT
BEGIN:VEVENT
DTSTART;TZID=America/Phoenix:20230117T170000
DTEND;TZID=America/Phoenix:20230117T180000
DTSTAMP:20260421T015120
CREATED:20230112T202952Z
LAST-MODIFIED:20230112T202952Z
UID:10000345-1673974800-1673978400@townofwheatlandwy.org
SUMMARY:Workshop
DESCRIPTION:Workshop regarding Black Mountain Water Tower
URL:https://townofwheatlandwy.org/event/workshop-2/
END:VEVENT
BEGIN:VEVENT
DTSTART;TZID=America/Phoenix:20230117T190000
DTEND;TZID=America/Phoenix:20230117T190000
DTSTAMP:20260421T015120
CREATED:20220919T214430Z
LAST-MODIFIED:20220919T214847Z
UID:10000244-1673982000-1673982000@townofwheatlandwy.org
SUMMARY:Board of Adjustment
DESCRIPTION:
URL:https://townofwheatlandwy.org/event/board-of-adjustment-4/2023-01-17/
LOCATION:Town Hall\, 600 9th St\, Wheatland\, WI\, 82201\, United States
CATEGORIES:Board of Adjustment
END:VEVENT
BEGIN:VEVENT
DTSTART;TZID=America/Phoenix:20230119T081500
DTEND;TZID=America/Phoenix:20230119T091500
DTSTAMP:20260421T015120
CREATED:20230118T164407Z
LAST-MODIFIED:20230118T164407Z
UID:10000346-1674116100-1674119700@townofwheatlandwy.org
SUMMARY:Special Meeting
DESCRIPTION:Special Meeting at Town Hall.
URL:https://townofwheatlandwy.org/event/special-meeting/
END:VEVENT
BEGIN:VEVENT
DTSTART;VALUE=DATE:20230126
DTEND;VALUE=DATE:20230127
DTSTAMP:20260421T015120
CREATED:20221220T172718Z
LAST-MODIFIED:20221220T172718Z
UID:10000342-1674691200-1674777599@townofwheatlandwy.org
SUMMARY:Planning and Zoning Submittal Deadline
DESCRIPTION:Application deadline for 3/2/2023 meeting
URL:https://townofwheatlandwy.org/event/planning-and-zoning-submittal-deadline-2/
CATEGORIES:Planning & Zoning
END:VEVENT
END:VCALENDAR